BEGIN:VCALENDAR
VERSION:2.0
PRODID:-//M.O.M. - ECPv6.15.20//NONSGML v1.0//EN
CALSCALE:GREGORIAN
METHOD:PUBLISH
X-WR-CALNAME:M.O.M.
X-ORIGINAL-URL:https://mommaonamissioninc.org
X-WR-CALDESC:Events for M.O.M.
REFRESH-INTERVAL;VALUE=DURATION:PT1H
X-Robots-Tag:noindex
X-PUBLISHED-TTL:PT1H
BEGIN:VTIMEZONE
TZID:UTC
BEGIN:STANDARD
TZOFFSETFROM:+0000
TZOFFSETTO:+0000
TZNAME:UTC
DTSTART:20180101T000000
END:STANDARD
END:VTIMEZONE
BEGIN:VEVENT
DTSTART;TZID=UTC:20190819T190000
DTEND;TZID=UTC:20190819T203000
DTSTAMP:20260424T160642
CREATED:20190416T024044Z
LAST-MODIFIED:20190504T050223Z
UID:6436-1566241200-1566246600@mommaonamissioninc.org
SUMMARY:Survivors Unite - August 2019
DESCRIPTION:Momma On a Mission\, Inc. will unite the surviving families that have been affected by violence\, homicide or a traumatic crime. We understand that grief is a process that is experienced in different stages. Our group meetings are geared to help families heal and learn how to properly release their emotions by instructing through conversation with support. Meetings are facilitated by our Counselor\, Ms. Sheila. We meet on the 3rd Monday each starting at 7pm at Margaret’s Place. \n \n \n \n \n \n \n				\n			 \n			 \n				\n				\n			 \n				\n				\n				\n				\n				\n				\n				\n					Interested in volunteering for this event?\n					\n				\n				Contact Us
URL:https://mommaonamissioninc.org/event/survivors-unite-august-2019/
LOCATION:Margaret’s Place\, 7217 Troost Ave\, Kansas City\, MO\, 64131\, United States
ATTACH;FMTTYPE=image/jpeg:https://mommaonamissioninc.org/wp-content/uploads/2019/05/August_.jpg
ORGANIZER;CN="Momma on a Mission":MAILTO:contact@mommaonamissioninc.org
END:VEVENT
BEGIN:VEVENT
DTSTART;TZID=UTC:20190715T190000
DTEND;TZID=UTC:20190715T203000
DTSTAMP:20260424T160642
CREATED:20190416T023141Z
LAST-MODIFIED:20190504T050001Z
UID:6425-1563217200-1563222600@mommaonamissioninc.org
SUMMARY:Survivors Unite - July 2019
DESCRIPTION:Momma On a Mission\, Inc. will unite the surviving families that have been affected by violence\, homicide or a traumatic crime. We understand that grief is a process that is experienced in different stages. Our group meetings are geared to help families heal and learn how to properly release their emotions by instructing through conversation with support. Meetings are facilitated by our Counselor\, Ms. Sheila. We meet on the 3rd Monday each starting at 7pm at Margaret’s Place. \n \n \n \n \n \n \n				\n			 \n			 \n				\n				\n			 \n				\n				\n				\n				\n				\n				\n				\n					Interested in volunteering for this event?\n					\n				\n				Contact Us
URL:https://mommaonamissioninc.org/event/survivors-unite-july-2019/
LOCATION:Margaret’s Place\, 7217 Troost Ave\, Kansas City\, MO\, 64131\, United States
ATTACH;FMTTYPE=image/jpeg:https://mommaonamissioninc.org/wp-content/uploads/2019/05/July_.jpg
ORGANIZER;CN="Momma on a Mission":MAILTO:contact@mommaonamissioninc.org
END:VEVENT
BEGIN:VEVENT
DTSTART;TZID=UTC:20190617T190000
DTEND;TZID=UTC:20190617T203000
DTSTAMP:20260424T160642
CREATED:20190414T183705Z
LAST-MODIFIED:20190504T045435Z
UID:6188-1560798000-1560803400@mommaonamissioninc.org
SUMMARY:Survivors Unite - June 2019
DESCRIPTION:Momma On a Mission\, Inc. will unite the surviving families that have been affected by violence\, homicide or a traumatic crime. We understand that grief is a process that is experienced in different stages. Our group meetings are geared to help families heal and learn how to properly release their emotions by instructing through conversation with support. Meetings are facilitated by our Counselor\, Ms. Sheila. We meet on the 3rd Monday each starting at 7pm at Margaret’s Place. \n \n \n \n \n \n \n				\n			 \n			 \n				\n				\n			 \n				\n				\n				\n				\n				\n				\n				\n					Interested in volunteering for this event?\n					\n				\n				Contact Us
URL:https://mommaonamissioninc.org/event/survivors-unite-june-2019/
LOCATION:Margaret’s Place\, 7217 Troost Ave\, Kansas City\, MO\, 64131\, United States
ATTACH;FMTTYPE=image/jpeg:https://mommaonamissioninc.org/wp-content/uploads/2019/05/June.jpg
ORGANIZER;CN="Momma on a Mission":MAILTO:contact@mommaonamissioninc.org
END:VEVENT
BEGIN:VEVENT
DTSTART;TZID=UTC:20190520T190000
DTEND;TZID=UTC:20190520T203000
DTSTAMP:20260424T160642
CREATED:20190501T174346Z
LAST-MODIFIED:20190517T150238Z
UID:7183-1558378800-1558384200@mommaonamissioninc.org
SUMMARY:Survivors Unite - May 2019
DESCRIPTION:Momma On a Mission\, Inc. will unite the surviving families that have been affected by violence\, homicide or a traumatic crime. We understand that grief is a process that is experienced in different stages. Our group meetings are geared to help families heal and learn how to properly release their emotions by instructing through conversation with support. Meetings are facilitated by our Counselor\, Ms. Sheila. We meet on the 3rd Monday each starting at 7pm at Margaret’s Place. \n \n \n \n \n \n \n				\n			 \n			 \n				\n				\n			 \n				\n				\n				\n				\n				\n				\n				\n					Interested in volunteering for this event?\n					\n				\n				Contact Us
URL:https://mommaonamissioninc.org/event/survivors-unite-may-2019/
LOCATION:Margaret’s Place\, 7217 Troost Ave\, Kansas City\, MO\, 64131\, United States
ATTACH;FMTTYPE=image/jpeg:https://mommaonamissioninc.org/wp-content/uploads/2019/05/May.jpg
ORGANIZER;CN="Momma on a Mission":MAILTO:contact@mommaonamissioninc.org
END:VEVENT
BEGIN:VEVENT
DTSTART;TZID=UTC:20190415T190000
DTEND;TZID=UTC:20190415T203000
DTSTAMP:20260424T160642
CREATED:20190414T174059Z
LAST-MODIFIED:20190501T173212Z
UID:6145-1555354800-1555360200@mommaonamissioninc.org
SUMMARY:Survivors Unite - April 2019
DESCRIPTION:Momma On a Mission\, Inc. will unite the surviving families that have been affected by violence\, homicide or a traumatic crime. We understand that grief is a process that is experienced in different stages. Our group meetings are geared to help families heal and learn how to properly release their emotions by instructing through conversation with support. Meetings are facilitated by our Counselor\, Ms. Sheila. We meet on the 3rd Monday each starting at 7pm at Margaret’s Place.
URL:https://mommaonamissioninc.org/event/survivors-unite/
LOCATION:Margaret’s Place\, 7217 Troost Ave\, Kansas City\, MO\, 64131\, United States
ATTACH;FMTTYPE=image/jpeg:https://mommaonamissioninc.org/wp-content/uploads/2019/04/facebook_1551323756459_compressed.jpg
ORGANIZER;CN="Momma on a Mission":MAILTO:contact@mommaonamissioninc.org
END:VEVENT
END:VCALENDAR